BEGIN:VCALENDAR
VERSION:2.0
PRODID:-//eventon.com NONSGML v1.0//EN
BEGIN:VEVENT
UID:69e886c3abc01
DTSTAMP:20260422T082851
DTSTART:20261128T090000Z
DTEND:20261129T170000Z
LOCATION:Autodromo Valle dei Templi - Racalmuto C.da Mezzarati Km (28+500 della SS 640 AG-CL)\,  92020 Racalmuto
SUMMARY:TUMINO MOTO
DESCRIPTION: TUMINO MOTO nasce dalla passione per la velocità e dall’esperienza maturata direttamente in pista. Organizziamo prove libere\,  eventi racing e corsi di guida dedicati a chi vuole vivere il motociclismo al massimo\,  in un contesto professionale\,  sicuro e altamente performante. Ogni evento è studiato per offrire ai piloti turni di[..]
END:VEVENT
END:VCALENDAR