BEGIN:VCALENDAR
VERSION:2.0
PRODID:-//eventon.com NONSGML v1.0//EN
BEGIN:VEVENT
UID:69e886d40ab64
DTSTAMP:20260422T082908
DTSTART:20250405T000000Z
DTEND:20250405T235900Z
LOCATION:Autodromo Valle dei Templi - Racalmuto C.da Mezzarati Km (28+500 della SS 640 AG-CL)\,  92020 Racalmuto
SUMMARY:MERCEDES AMG
DESCRIPTION: AMG Mercedes in pista all’Autodromo "Valle dei Templi" di Racalmuto: un evento esclusivo per i clienti R. Star S.p.A. Sabato 5 aprile\,  l’Autodromo "Valle dei Templi" di Racalmuto ospiterà un evento esclusivo dedicato agli appassionati di motori e alle performance automobilistiche di alta gamma. AMG Mercedes scende in pista con[..]
END:VEVENT
END:VCALENDAR