BEGIN:VCALENDAR
VERSION:2.0
PRODID:-//eventon.com NONSGML v1.0//EN
BEGIN:VEVENT
UID:69e7316da5d94
DTSTAMP:20260421T081229
DTSTART:20241212T000000Z
DTEND:20241218T235900Z
LOCATION:Autodromo Valle dei Templi - Racalmuto C.da Mezzarati Km (28+500 della SS 640 AG-CL)\,  92020 Racalmuto
SUMMARY:CORSO DI GUIDA SICURA
DESCRIPTION: - CORSI DI GUIDA SICURA - EVENTO PER AZIENDA E-COMMERCE MULTINAZIONALE
END:VEVENT
END:VCALENDAR