BEGIN:VCALENDAR
VERSION:2.0
PRODID:-//eventon.com NONSGML v1.0//EN
BEGIN:VEVENT
UID:69e8869b7bb1a
DTSTAMP:20260422T082811
DTSTART:20241215T000000Z
DTEND:20241215T235900Z
LOCATION:Autodromo Valle dei Templi - Racalmuto C.da Mezzarati Km (28+500 della SS 640 AG-CL)\,  92020 Racalmuto
SUMMARY:XMAS TRACK DAY
DESCRIPTION: EVENTO ANNULLATOXMAS TRACK DAY all'autodromo "VALLE DEI TEMPLI" DOMENICA 15 DICMEBRE PROVE LIBERE MOTO aperti a qualsiasi marca e cilindrata. I test in pista sono aperti a tutti\,  team professionistici\,  squadre\,  singoli sportivi e semplici privati. Info e prenotazioni 0922949462 - 3287292008 - 3287292004
END:VEVENT
END:VCALENDAR