BEGIN:VCALENDAR
VERSION:2.0
PRODID:-//eventon.com NONSGML v1.0//EN
BEGIN:VEVENT
UID:69e8f47d87c66
DTSTAMP:20260422T161701
DTSTART:20240714T000000Z
DTEND:20240714T235900Z
LOCATION:Autodromo Valle dei Templi - Racalmuto C.da Mezzarati Km (28+500 della SS 640 AG-CL)\,  92020 Racalmuto
SUMMARY:SUMMER TRACK DAY 2024
DESCRIPTION: SUMMER TRACK DAY 2024 Una splendida domenica mattina in pista con le auto\,  comprensivo di aperitivo e pranzo al ristorante. DOMENICA 14 LUGLIO: start ore 08:30 - aperitivo ore 11:30 e chiusura Pit-lane con Pranzo alle ore 13:00 Infoline 3287292008 - 0922949462
END:VEVENT
END:VCALENDAR