BEGIN:VCALENDAR
VERSION:2.0
PRODID:-//eventon.com NONSGML v1.0//EN
BEGIN:VEVENT
UID:69e883ca771c7
DTSTAMP:20260422T081610
DTSTART:20220910T000000Z
DTEND:20220911T235900Z
LOCATION:Autodromo Valle dei Templi - Racalmuto C.da Mezzarati Km (28+500 della SS 640 AG-CL)\,  92020 Racalmuto
SUMMARY:PROVE LIBERE AUTO
DESCRIPTION: TRACK DAY AUTO 2022 Cosa è il TRACK DAY?  Letteralmente significa "GIORNATA IN PISTA" ed è un evento cronometrato\,  individuale\,  dove ogni pilota può girare in pista con la propria auto in tutta sicurezza. SABATO dalle ore 15:00 alle ore 17:00 DOMENICA falle ore 09:00 alle ore 17:00 ORGANIZZATA DALL[..]
END:VEVENT
END:VCALENDAR