BEGIN:VCALENDAR
VERSION:2.0
PRODID:-//eventon.com NONSGML v1.0//EN
BEGIN:VEVENT
UID:69ec3eb615cac
DTSTAMP:20260425T041030
DTSTART:20210327T000000Z
DTEND:20210328T235900Z
LOCATION:Autodromo Valle dei Templi - Racalmuto C.da Mezzarati Km (28+500 della SS 640 AG-CL)\,  92020 Racalmuto
SUMMARY:DGM & TRINACRIA
DESCRIPTION: Prove libere moto aperte a tutti i piloti con tessera/licenza agonistica e certificato medico agonistico come da ultimo dpcm  in "Zona Arancione" Assistenza meccanica\,  settaggio ammortizzatori e montaggio penumatici direttamente al box 22 coi tecnici della Trinacria Motors. Durante le giornate in pista DGM/TRINACRIA troverete le super offerte sui pneumatici[..]
END:VEVENT
END:VCALENDAR