BEGIN:VCALENDAR
VERSION:2.0
PRODID:-//eventon.com NONSGML v1.0//EN
BEGIN:VEVENT
UID:69e888c9b5dcb
DTSTAMP:20260422T083729
DTSTART:20190316T080000Z
DTEND:20190317T180000Z
LOCATION:Autodromo Valle dei Templi - Racalmuto C.da Mezzarati Km (28+500 della SS 640 AG-CL)\,  92020 Racalmuto
SUMMARY:TUMINO MOTO
DESCRIPTION: Prove libere moto organizzate da "Tumino Group" aperte a tutte le cilindrate (125\,  300\,  600 e 1000). Assistenza meccanica con banco prova in pista. Corsi di guida per neofiti e avanzati Foto\,  posto box e cronometraggio GRANDE OFFERTA GOMME/PISTA -Coppia 120+200/60/17 SBK SC1/2/3/0 + PISTA €400 (disponibili 15 coppie) -Coppia[..]
END:VEVENT
END:VCALENDAR