BEGIN:VCALENDAR
VERSION:2.0
PRODID:-//eventon.com NONSGML v1.0//EN
BEGIN:VEVENT
UID:69e8846b18e6e
DTSTAMP:20260422T081851
DTSTART:20181017T080000Z
DTEND:20181018T180000Z
LOCATION:Autodromo Valle dei Templi - Racalmuto C.da Mezzarati Km (28+500 della SS 640 AG-CL)\,  92020 Racalmuto
SUMMARY:SPEED CORPORATION
DESCRIPTION: Partecipa alle selezioni SPEED CORPORATION Corri coi nostri KART e sfida gli altri partecipanti Accedi alla FINALE NAZIONALE e VINCI l'opportunità di correre gratuitamente il CAMPIONATO MIDJET 2019!!! Infoline: 345/3426003    info@speedcorporation.it
END:VEVENT
END:VCALENDAR