BEGIN:VCALENDAR
VERSION:2.0
PRODID:-//eventon.com NONSGML v1.0//EN
BEGIN:VEVENT
UID:69e884d336934
DTSTAMP:20260422T082035
DTSTART:20181202T000500Z
DTEND:20181202T000500Z
LOCATION:Autodromo Valle dei Templi - Racalmuto C.da Mezzarati Km (28+500 della SS 640 AG-CL)\,  92020 Racalmuto
SUMMARY:QUARTER MILE 2018_Round 4
DESCRIPTION: Prove d'accelerazione sui 400 metri. Evento aperto a tutti i tipi di auto e moto. Partenza da fermo con doppia corsia cronometrata. REGOLAMENTI E TEMPI Info e regolamento: 3331381593 - 3287292008
END:VEVENT
END:VCALENDAR