BEGIN:VCALENDAR
VERSION:2.0
PRODID:-//eventon.com NONSGML v1.0//EN
BEGIN:VEVENT
UID:69e731353326b
DTSTAMP:20260421T081133
DTSTART:20170715T000000Z
DTEND:20170716T140000Z
LOCATION:Autodromo Valle dei Templi - Racalmuto C.da Mezzarati Km (28+500 della SS 640 AG-CL)\,  92020 Racalmuto
SUMMARY:TIME ATTACK - V° Round
DESCRIPTION: Sabato 15 e domenica 16 Luglio arriva la 5° prova del campionato TIME ATTACK: la serie dedicata alle auto stradali e derivate. PROGRAMMA PISTA: Sabato: dalle ore 15:00 alle ore 21:00 Domenica: dalle ore 09:00 alle or 13:00 (Ai fini della classifica terremo in considerazione solamente un bestlap registrato tra[..]
END:VEVENT
END:VCALENDAR