BEGIN:VCALENDAR
VERSION:2.0
PRODID:-//eventon.com NONSGML v1.0//EN
BEGIN:VEVENT
UID:69e7319249fce
DTSTAMP:20260421T081306
DTSTART:20170618T080000Z
DTEND:20170618T180000Z
LOCATION:Autodromo Valle dei Templi - Racalmuto C.da Mezzarati Km (28+500 della SS 640 AG-CL)\,  92020 Racalmuto
SUMMARY:2° QUARTER MILE RACALMUTO
DESCRIPTION: Prove d'accelerazione sui 400 metri. Evento aperto a tutti i tipi di auto e moto. Info e regolamento: 3331381593 - 3287292008
END:VEVENT
END:VCALENDAR