BEGIN:VCALENDAR
VERSION:2.0
PRODID:-//eventon.com NONSGML v1.0//EN
BEGIN:VEVENT
UID:69e8873af01c8
DTSTAMP:20260422T083050
DTSTART:20161126T080000Z
DTEND:20161127T170000Z
LOCATION:Autodromo Valle dei Templi - Racalmuto C.da Mezzarati Km (28+500 della SS 640 AG-CL)\,  92020 Racalmuto
SUMMARY:CAMPIONATO AUTO 2016
DESCRIPTION: Comunichiamo che sabato 26 e domenica 27 NOVEMBRE 2016 si svolgerà l’ultima prova del Campionato Slalom ASI 2016 presso l’autodromo di Racalmuto (AG). Le modalità previste per questo weekend di gara saranno Slalom e Velocità in Pista (partenza in griglia) Sabato 26 Novembre si svolgeranno\,  di mattina\,  le verifiche sportive[..]
END:VEVENT
END:VCALENDAR