BEGIN:VCALENDAR
VERSION:2.0
PRODID:-//eventon.com NONSGML v1.0//EN
BEGIN:VEVENT
UID:69e8870da69f1
DTSTAMP:20260422T083005
DTSTART:20161009T000500Z
DTEND:20161009T000500Z
LOCATION:Autodromo Valle dei Templi - Racalmuto C.da Mezzarati Km (28+500 della SS 640 AG-CL)\,  92020 Racalmuto
SUMMARY:TIME ATTACK - Speciale JDM
DESCRIPTION: Tutto pronto per il 6° appuntamento della stagione. Racalmuto Time Attack è un evento studiato per dar la possibilità a tutti di divertirsi in pista con la propria auto\,  sia essa un’ utilitaria\,  un’auto elaborata o una potente fuoriserie. L’evento è ideato in funzione del massimo divertimento e nella maggiore[..]
END:VEVENT
END:VCALENDAR