BEGIN:VCALENDAR
VERSION:2.0
PRODID:-//eventon.com NONSGML v1.0//EN
BEGIN:VEVENT
UID:69e8846b45865
DTSTAMP:20260422T081851
DTSTART:20160612T080000Z
DTEND:20160612T180000Z
LOCATION:Autodromo Valle dei Templi - Racalmuto C.da Mezzarati Km (28+500 della SS 640 AG-CL)\,  92020 Racalmuto
SUMMARY:4° Round Time Attack
DESCRIPTION: RACALMUTO TIME ATTACK 2016 REGOLAMENTO Racalmuto Time Attack\,  giunto alla 6° edizione\,  è un evento studiato per dar la possibilità a tutti di divertirsi in pista con la propria auto\,  sia essa un' utilitaria\,  un'auto elaborata o una potente fuoriserie (purchè derivate da auto di serie; No formula o sport[..]
END:VEVENT
END:VCALENDAR